BEGIN:VCALENDAR
VERSION:2.0
PRODID:-//TYPO3/NONSGML Hochschule für Musik Nürnberg//EN
BEGIN:VTIMEZONE
TZID:CET
BEGIN:DAYLIGHT
TZOFFSETFROM:+0100
TZOFFSETTO:+0200
TZNAME:Central European Time
DTSTART:20160327T020000
RRULE:FREQ=YEARLY;BYDAY=-1SU;BYMONTH=3
END:DAYLIGHT
BEGIN:STANDARD
TZOFFSETFROM:+0200
TZOFFSETTO:+0100
TZNAME:Central European Time
DTSTART:20161030T030000
RRULE:FREQ=YEARLY;BYDAY=-1SU;BYMONTH=10
END:STANDARD
END:VTIMEZONE
BEGIN:VEVENT
UID:event-8528@www.hfm-nuernberg.de
DTSTAMP:20260413T130001
DTSTART;TZID=CET:20260616T173000
DTEND;TZID=CET:20260616T190000
SUMMARY:Vorträge und künstlerische Impulse - Gender & Diversity: „die Stimme erheben“
LOCATION:2.31

URL:https://www.hfm-nuernberg.de/veranstaltungen/termin/2026-06-16-vortraege-und-kuenstlerische-impulse-gender-diversity-die-stimme-erheben
END:VEVENT
END:VCALENDAR
