BEGIN:VCALENDAR
VERSION:2.0
PRODID:-//TYPO3/NONSGML Hochschule für Musik Nürnberg//EN
BEGIN:VTIMEZONE
TZID:CET
BEGIN:DAYLIGHT
TZOFFSETFROM:+0100
TZOFFSETTO:+0200
TZNAME:Central European Time
DTSTART:20160327T020000
RRULE:FREQ=YEARLY;BYDAY=-1SU;BYMONTH=3
END:DAYLIGHT
BEGIN:STANDARD
TZOFFSETFROM:+0200
TZOFFSETTO:+0100
TZNAME:Central European Time
DTSTART:20161030T030000
RRULE:FREQ=YEARLY;BYDAY=-1SU;BYMONTH=10
END:STANDARD
END:VTIMEZONE
BEGIN:VEVENT
UID:event-8449@www.hfm-nuernberg.de
DTSTAMP:20260423T140001
DTSTART;TZID=CET:20260519T190000
DTEND;TZID=CET:20260519T210000
SUMMARY:Elementare Musikpädagogik im Konzert - Klang x Körper x Szene
LOCATION:EMP-Saal, Veilhofstr. 34, 90489 Nürnberg
GEO:49.45938413;11.10910322
URL:https://www.hfm-nuernberg.de/veranstaltungen/termin/2026-05-19-elementare-musikpaedagogik-im-konzert-klang-x-koerper-x-szene
END:VEVENT
END:VCALENDAR
