BEGIN:VCALENDAR
VERSION:2.0
PRODID:-//TYPO3/NONSGML Hochschule für Musik Nürnberg//EN
BEGIN:VTIMEZONE
TZID:CET
BEGIN:DAYLIGHT
TZOFFSETFROM:+0100
TZOFFSETTO:+0200
TZNAME:Central European Time
DTSTART:20160327T020000
RRULE:FREQ=YEARLY;BYDAY=-1SU;BYMONTH=3
END:DAYLIGHT
BEGIN:STANDARD
TZOFFSETFROM:+0200
TZOFFSETTO:+0100
TZNAME:Central European Time
DTSTART:20161030T030000
RRULE:FREQ=YEARLY;BYDAY=-1SU;BYMONTH=10
END:STANDARD
END:VTIMEZONE
BEGIN:VEVENT
UID:event-9536@www.hfm-nuernberg.de
DTSTAMP:20260420T120001
DTSTART;TZID=CET:20260513T180000
DTEND;TZID=CET:20260513T200000
SUMMARY:Musik und Technik im Konzert - Out Of The Box


URL:https://www.hfm-nuernberg.de/veranstaltungen/termin/2026-05-13-musik-und-technik-im-konzert-out-of-the-box
END:VEVENT
END:VCALENDAR
