BEGIN:VCALENDAR
VERSION:2.0
PRODID:-//TYPO3/NONSGML Hochschule für Musik Nürnberg//EN
BEGIN:VTIMEZONE
TZID:CET
BEGIN:DAYLIGHT
TZOFFSETFROM:+0100
TZOFFSETTO:+0200
TZNAME:Central European Time
DTSTART:20160327T020000
RRULE:FREQ=YEARLY;BYDAY=-1SU;BYMONTH=3
END:DAYLIGHT
BEGIN:STANDARD
TZOFFSETFROM:+0200
TZOFFSETTO:+0100
TZNAME:Central European Time
DTSTART:20161030T030000
RRULE:FREQ=YEARLY;BYDAY=-1SU;BYMONTH=10
END:STANDARD
END:VTIMEZONE
BEGIN:VEVENT
UID:event-9111@www.hfm-nuernberg.de
DTSTAMP:20260422T100001
DTSTART;TZID=CET:20260428T100000
DTEND;TZID=CET:20260428T120000
SUMMARY:Internationale Woche - Eröffnungsveranstaltung
LOCATION:Hörsaal, Hochschule für Musik Nürnberg
Veilhofstr. 34, 90489 Nürnberg
GEO:49.4592865;11.10910322
URL:https://www.hfm-nuernberg.de/veranstaltungen/termin/2026-04-28-internationale-woche-eroeffnungsveranstaltung
END:VEVENT
END:VCALENDAR
